BEGIN:VCALENDAR
TZID:Europe/Paris
BEGIN:VEVENT
CLASS:PUBLIC
CREATED:20260422T104848
DESCRIPTION:<h4><strong>Atelier 1 : Mises en situation à partir de vos propres expériences.</strong></h4>\n<strong>Objectif :</strong> Découvrir vos besoins profonds pour avoir confiance en vous et connecter votre sécurité émotionnelle. Pratique et outils concrets.\n\n<strong>Date :</strong> Vendredi 22 novembre\n\n<strong>Horaires :</strong> 13h - 15h\n<h4><strong>Atelier 2 : Analyse de situations externes.</strong></h4>\n<strong>Objectif :</strong> Favoriser la prise de recul. Pratique et outils concrets.\n\n<strong>Date :</strong> Vendredi 29 novembre\n\n<strong>Horaires :</strong> 12h - 14h\n<h4><strong>Atelier 3 : Approfondissement : Théorie et mise en pratique des clés de communication acquises.</strong></h4>\n<strong>Date :</strong> Vendredi 6 décembre\n\n<strong>Horaires : </strong>12h - 14h\n<h4><strong>Coût total pour les 3 ateliers : 180€ (pré-inscription gratuite)</strong></h4>
DTEND:20241122T150000Z
DTSTAMP:20260422T104848
DTSTART:20241122T130000
LAST-MODIFIED:20091109T101015
LOCATION:8 Avenue de Saint Maur, , Montpellier, , 34000
SUMMARY;LANGUAGE=en-us:Apprendre à communiquer en toute sécurité avec un pervers narcissique
BEGIN:VALARM
TRIGGER:-PT1440M
ACTION:DISPLAY
DESCRIPTION:Reminder
END:VALARM
END:VEVENT
END:VCALENDAR
